BEGIN:VCALENDAR
VERSION:2.0
PRODID:-//Gesellschaft für Ernährung nach den 5 Elementen - ECPv6.15.20//NONSGML v1.0//EN
CALSCALE:GREGORIAN
METHOD:PUBLISH
X-ORIGINAL-URL:https://tcm-ernaehrung.at
X-WR-CALDESC:Veranstaltungen für Gesellschaft für Ernährung nach den 5 Elementen
REFRESH-INTERVAL;VALUE=DURATION:PT1H
X-Robots-Tag:noindex
X-PUBLISHED-TTL:PT1H
BEGIN:VTIMEZONE
TZID:Europe/Rome
BEGIN:DAYLIGHT
TZOFFSETFROM:+0100
TZOFFSETTO:+0200
TZNAME:CEST
DTSTART:20250330T010000
END:DAYLIGHT
BEGIN:STANDARD
TZOFFSETFROM:+0200
TZOFFSETTO:+0100
TZNAME:CET
DTSTART:20251026T010000
END:STANDARD
BEGIN:DAYLIGHT
TZOFFSETFROM:+0100
TZOFFSETTO:+0200
TZNAME:CEST
DTSTART:20260329T010000
END:DAYLIGHT
BEGIN:STANDARD
TZOFFSETFROM:+0200
TZOFFSETTO:+0100
TZNAME:CET
DTSTART:20261025T010000
END:STANDARD
BEGIN:DAYLIGHT
TZOFFSETFROM:+0100
TZOFFSETTO:+0200
TZNAME:CEST
DTSTART:20270328T010000
END:DAYLIGHT
BEGIN:STANDARD
TZOFFSETFROM:+0200
TZOFFSETTO:+0100
TZNAME:CET
DTSTART:20271031T010000
END:STANDARD
END:VTIMEZONE
BEGIN:VEVENT
DTSTART;VALUE=DATE:20260424
DTEND;VALUE=DATE:20260425
DTSTAMP:20260421T160624
CREATED:20240409T102355Z
LAST-MODIFIED:20250618T070234Z
UID:7412-1776988800-1777075199@tcm-ernaehrung.at
SUMMARY:Lebensmittelunverträglichkeiten und Nahrungsmittelallergien
DESCRIPTION:Alles über Lebensmittelunverträglichkeiten & Nahrungsmittelallergien – Ursachen und Ernährungsempfehlungen aus westlicher Sicht. \nLebensmittelunverträglichkeiten und -allergien stehen fast schon an der Tagesordnung. Lernen Sie\, wie diese aus westlicher Sicht entstehen\, welche Ursachen sie haben und welche Ernährungsempfehlungen sich daraus ergeben. Dabei werden die häufigsten Unverträglichkeiten wie Fruktose- und Laktoseintoleranz\, Histaminintoleranz\, Zöliakie\, Weizen und Kaseinallergie besprochen. \nNächster Starttermin: 24.04.2026
URL:https://tcm-ernaehrung.at/termin/lebensmittelunvertraeglichkeiten-und-nahrungsmittelallergien/
LOCATION:Online
CATEGORIES:Lehrgang,Online Lehrgang
ATTACH;FMTTYPE=image/jpeg:https://tcm-ernaehrung.at/wp-content/uploads/2024/04/DOC-RABE-Media-Fotolia_56326683_M.jpg
ORGANIZER;CN="BaBl%C3%BC Akademie":MAILTO:office@bablue.at
END:VEVENT
BEGIN:VEVENT
DTSTART;VALUE=DATE:20260425
DTEND;VALUE=DATE:20260426
DTSTAMP:20260421T160624
CREATED:20240408T120558Z
LAST-MODIFIED:20250918T070736Z
UID:7304-1777075200-1777161599@tcm-ernaehrung.at
SUMMARY:Dipl. Ernährungsexperte/in für Stoffwechseltypen & Darmgesundheit
DESCRIPTION:Ganzheitliche Diplomausbildung für Ernährung nach Stoffwechseltypen\, Stoffwechselanalyse und Darmgesundheit – mit Diplomabschluss \nSind Sie bereit für eine Ausbildung\, die Ihr Leben (positiv & nachhaltig) verändert? \nLernen Sie alles über die Lehre der Stoffwechseltypen (auch Metabolic Typing® genannt). Es handelt sich dabei um ein 70 Jahre junges Wissen\, dass das Potential hat für Gesundheit\, Wohlbefinden\, Idealgewicht und Leistungsfähigkeit in der Gesellschaft zu sorgen! \nNächste Starttermine: \n25.04.26 live online\n19.09.26 live online
URL:https://tcm-ernaehrung.at/termin/dipl-ernaehrungsexperte-in-fuer-stoffwechseltypen-darmgesundheit/
LOCATION:Online + Live in Graz
CATEGORIES:Lehrgang,Online Lehrgang,Online Seminar,Online Workshop,Seminare,Workshops
ATTACH;FMTTYPE=image/jpeg:https://tcm-ernaehrung.at/wp-content/uploads/2024/04/AdobeStock_56307305-contrastwerkstatt-scaled.jpg
ORGANIZER;CN="BaBl%C3%BC Akademie":MAILTO:office@bablue.at
END:VEVENT
BEGIN:VEVENT
DTSTART;VALUE=DATE:20260425
DTEND;VALUE=DATE:20260426
DTSTAMP:20260421T160624
CREATED:20240409T073902Z
LAST-MODIFIED:20250917T121953Z
UID:7379-1777075200-1777161599@tcm-ernaehrung.at
SUMMARY:Die Stoffwechseltypen – Grundausbildung
DESCRIPTION:Praxisorientierte Ausbildung über die Grundlagen der Stoffwechseltyp gerechten Ernährung (auch Metabolic Typing® genannt)\, für ganzheitliche Gesundheit\, als Voraussetzung für das Abnehmen & ein dauerhaftes Wohlfühlgewicht. \nNächste Starttermine: \n25.04.26 live online\n19.09.26 live online
URL:https://tcm-ernaehrung.at/termin/die-stoffwechseltypen-grundausbildung/
LOCATION:Online + Live in Graz
CATEGORIES:Kochkurs,Lehrgang,Online Lehrgang,Online Seminar,Online Workshop,Seminare,Workshops
ATTACH;FMTTYPE=image/jpeg:https://tcm-ernaehrung.at/wp-content/uploads/2024/04/AdobeStock_New-Africa-Stoffwechseltyp-scaled.jpeg
ORGANIZER;CN="BaBl%C3%BC Akademie":MAILTO:office@bablue.at
END:VEVENT
END:VCALENDAR