BEGIN:VCALENDAR
VERSION:2.0
PRODID:-//Gesellschaft für Ernährung nach den 5 Elementen - ECPv6.15.20//NONSGML v1.0//EN
CALSCALE:GREGORIAN
METHOD:PUBLISH
X-ORIGINAL-URL:https://tcm-ernaehrung.at
X-WR-CALDESC:Veranstaltungen für Gesellschaft für Ernährung nach den 5 Elementen
REFRESH-INTERVAL;VALUE=DURATION:PT1H
X-Robots-Tag:noindex
X-PUBLISHED-TTL:PT1H
BEGIN:VTIMEZONE
TZID:Europe/Rome
BEGIN:DAYLIGHT
TZOFFSETFROM:+0100
TZOFFSETTO:+0200
TZNAME:CEST
DTSTART:20240331T010000
END:DAYLIGHT
BEGIN:STANDARD
TZOFFSETFROM:+0200
TZOFFSETTO:+0100
TZNAME:CET
DTSTART:20241027T010000
END:STANDARD
BEGIN:DAYLIGHT
TZOFFSETFROM:+0100
TZOFFSETTO:+0200
TZNAME:CEST
DTSTART:20250330T010000
END:DAYLIGHT
BEGIN:STANDARD
TZOFFSETFROM:+0200
TZOFFSETTO:+0100
TZNAME:CET
DTSTART:20251026T010000
END:STANDARD
BEGIN:DAYLIGHT
TZOFFSETFROM:+0100
TZOFFSETTO:+0200
TZNAME:CEST
DTSTART:20260329T010000
END:DAYLIGHT
BEGIN:STANDARD
TZOFFSETFROM:+0200
TZOFFSETTO:+0100
TZNAME:CET
DTSTART:20261025T010000
END:STANDARD
END:VTIMEZONE
BEGIN:VEVENT
DTSTART;TZID=Europe/Rome:20250405T090000
DTEND;TZID=Europe/Rome:20250406T130000
DTSTAMP:20260424T121105
CREATED:20250128T171625Z
LAST-MODIFIED:20250128T171625Z
UID:8515-1743843600-1743944400@tcm-ernaehrung.at
SUMMARY:Konstitutionen - Typenlehre nach der TCM
DESCRIPTION:– Warst du schon immer an einer typ-gerechten Ernährungsweise interessiert?\n– Bist du unzufrieden mit den allgemeingültigen Go´s and No-Go´s der Ernährung?\n– Fühlst du dich im Dschungel der angeblich gesunden Ernährungsweisen verloren? \nStellst du dir die Frage:\n– Was bin ich?\n– Welcher Typ bin ich?\n– Welche Konstitution habe ich?\n– Was darf ich essen?\n– Was ist gesund für mich? \nDie wichtigsten Grundkonstitutionen mit ihren Ursachen\, deren Erkennung und Empfehlungen mit Ernährung und Kräutern werden erlernt?
URL:https://tcm-ernaehrung.at/termin/konstitutionen-typenlehre-nach-der-tcm/
LOCATION:Online
CATEGORIES:Online Seminar
ATTACH;FMTTYPE=image/jpeg:https://tcm-ernaehrung.at/wp-content/uploads/2025/01/Unknown-6-1-scaled.jpeg
ORGANIZER;CN="Shambhala":MAILTO:info@shambhala.at
END:VEVENT
BEGIN:VEVENT
DTSTART;TZID=Europe/Rome:20250411T100000
DTEND;TZID=Europe/Rome:20250411T140000
DTSTAMP:20260424T121105
CREATED:20250317T143822Z
LAST-MODIFIED:20250317T143822Z
UID:8703-1744365600-1744380000@tcm-ernaehrung.at
SUMMARY:Vegetarische TCM Küche der Achtsamkeit
DESCRIPTION:TCM Kochseminar: Kreativ kochen und nichts verschwenden\nWir kombinieren hochwertige\, vegetarische Zutaten nach den Prinzipien der 5-Elemente Küche zu einem bekömmlichen und abwechslungsreichen vegetarischen Frühlingsmenü. Dabei verarbeiten wir die gesamte Pflanze und achten darauf\, nichts zu verschwenden. \nSo entstehen aus der Schale\, der Frucht und dem Kraut jeweils unterschiedliche Kreationen.
URL:https://tcm-ernaehrung.at/termin/vegetarische-tcm-kueche-der-achtsamkeit/
LOCATION:Kochstudio die Pause\, Sigmundsgasse 8\, Wien\, Wien\, 1070\, Austria
CATEGORIES:Kochkurs,Workshops
ATTACH;FMTTYPE=image/jpeg:https://tcm-ernaehrung.at/wp-content/uploads/2025/03/Sommer_Gemuesesalat-scaled.jpg
ORGANIZER;CN="Die Pause":MAILTO:office@diepause.at
END:VEVENT
BEGIN:VEVENT
DTSTART;TZID=Europe/Rome:20250425T080000
DTEND;TZID=Europe/Rome:20250425T080000
DTSTAMP:20260424T121105
CREATED:20250115T153115Z
LAST-MODIFIED:20250217T111340Z
UID:8353-1745568000-1745568000@tcm-ernaehrung.at
SUMMARY:Diplomlehrgang TCM-Ernährung nach den 5 Elementen
DESCRIPTION:In Kooperation mit den beiden TCM-Ernährungsexpertinnen Daniela Pfeifer und Vera Prissmann-Moser bieten wir ab April 2025 wieder einen Diplomlehrgang an\, der auf einzigartige Weise das jahrtausendealte Wissen der Traditionellen Chinesischen Medizin (TCM) und moderne ernährungsmedizinische Erkenntnisse verbindet. \nInformieren Sie sich an unseren Info-Abenden am 23. Jänner oder 20. März 2025 ! \nWas bieten wir Ihnen?\nGanzheitlicher Ansatz: Sie erfahren\, wie Ernährung basierend auf den Prinzipien der 5 Elemente die Harmonie von Yin und Yang sowie die Lebensenergie Qi beeinflussen und stärken kann\, .\nWissenschaft trifft Tradition: Durch die Verbindung von westlicher Ernährungslehre mit der ganzheitlichen TCM-Ernährung\, die diesen Lehrgang einzigartig macht\, sind Sie am aktuellen Stand der modernen Ernährungswissenschaft.\nPraxisorientierte Inhalte: Sie erhalten viel Praxiswissen durch praxisorientieren Unterricht – vom therapeutischen Kochen über Puls- und Zungendiagnose bis hin zu Fallbearbeitungen und Beratungspraxis.\nProfessionelle Betreuung: Unsere Vortragenden verfügen alle über langjährige Unterrichts- und Praxiserfahrung und begleiten Sie von der Anamnese und Diagnose\, über laufende Betreuung (Jour Fixes) bis zum Abschluss mit Diplomarbeit und Prüfung.\nFlexibles Lernen: Präsenzwochenenden im Salzkammergut werden ergänzt durch Webinare\, E-Learning\, Fallarbeiten\, Selbststudium und Peergruppen\, damit Sie durch unsere Ausbildung das umfassende Wissen der TCM bestmöglich lernen und integrieren können. \nVeranstaltungsort: Online\, Präsenz im Salzkammergut (ZLOAM) \nStart des Lehrgangs: 25.04.2025\nEnde des Lehrgangs: 07.06.2026
URL:https://tcm-ernaehrung.at/termin/diplomlehrgang-tcm-ernaehrung-nach-den-5-elementen/
LOCATION:Narzissendorf ZLOAM\, Archkogl 188\, Grundlsee\, 8993
CATEGORIES:Lehrgang
ATTACH;FMTTYPE=image/png:https://tcm-ernaehrung.at/wp-content/uploads/2025/01/Ernaehrung-Bild-1-Anna-2.png
ORGANIZER;CN="WSTCM - Wiener Schule f%C3%BCr Traditionelle Chinesische Medizin":MAILTO:office@wstcm.at
END:VEVENT
END:VCALENDAR