BEGIN:VCALENDAR
VERSION:2.0
PRODID:-//Gesellschaft für Ernährung nach den 5 Elementen - ECPv6.15.20//NONSGML v1.0//EN
CALSCALE:GREGORIAN
METHOD:PUBLISH
X-WR-CALNAME:Gesellschaft für Ernährung nach den 5 Elementen
X-ORIGINAL-URL:https://tcm-ernaehrung.at
X-WR-CALDESC:Veranstaltungen für Gesellschaft für Ernährung nach den 5 Elementen
REFRESH-INTERVAL;VALUE=DURATION:PT1H
X-Robots-Tag:noindex
X-PUBLISHED-TTL:PT1H
BEGIN:VTIMEZONE
TZID:Europe/Rome
BEGIN:DAYLIGHT
TZOFFSETFROM:+0100
TZOFFSETTO:+0200
TZNAME:CEST
DTSTART:20240331T010000
END:DAYLIGHT
BEGIN:STANDARD
TZOFFSETFROM:+0200
TZOFFSETTO:+0100
TZNAME:CET
DTSTART:20241027T010000
END:STANDARD
BEGIN:DAYLIGHT
TZOFFSETFROM:+0100
TZOFFSETTO:+0200
TZNAME:CEST
DTSTART:20250330T010000
END:DAYLIGHT
BEGIN:STANDARD
TZOFFSETFROM:+0200
TZOFFSETTO:+0100
TZNAME:CET
DTSTART:20251026T010000
END:STANDARD
BEGIN:DAYLIGHT
TZOFFSETFROM:+0100
TZOFFSETTO:+0200
TZNAME:CEST
DTSTART:20260329T010000
END:DAYLIGHT
BEGIN:STANDARD
TZOFFSETFROM:+0200
TZOFFSETTO:+0100
TZNAME:CET
DTSTART:20261025T010000
END:STANDARD
END:VTIMEZONE
BEGIN:VEVENT
DTSTART;VALUE=DATE:20251114
DTEND;VALUE=DATE:20251115
DTSTAMP:20260423T142847
CREATED:20240109T131403Z
LAST-MODIFIED:20250818T185907Z
UID:6892-1763078400-1763164799@tcm-ernaehrung.at
SUMMARY:Detox-Yoga-Tage im Mostviertel
DESCRIPTION:TIME TO BREATHE heißt es von 14.11. – 16.11.2025 in den hügeligen Weiten des Mostviertels. Dort nutzen wir die Weite\, um Platz zu machen: Für gesunde\, neue Ernährungsgewohnheiten. Für unsere Muskeln und Gelenke\, die im Alltag oft eingeengt und unbewegt sind. \nGemeinsam finden wir RUHE UND ENTSPANNUNG\, nehmen wir uns am ehemaligen Bauernhof nahe Amstetten Zeit für uns – eine gemütliche Mischung aus gemeinsamen Koch-Workshops\, Yoga für jedes Können und jeden Körper\, Impulsvorträgen und Zeit\, einfach zu sein. Petra zeigt uns die Vielfalt der basischen TCM-Küche\, Julia führt durch die Yoga-Einheiten.
URL:https://tcm-ernaehrung.at/termin/detox-tage-beim-wilden-kaiser/
CATEGORIES:Seminare
ATTACH;FMTTYPE=image/jpeg:https://tcm-ernaehrung.at/wp-content/uploads/2024/01/Detox-Yoga-Tage-im-Mostviertel.jpg
ORGANIZER;CN="Petra Paumann":MAILTO:office@petrapaumann.at
END:VEVENT
BEGIN:VEVENT
DTSTART;TZID=Europe/Rome:20250330T100000
DTEND;TZID=Europe/Rome:20250330T140000
DTSTAMP:20260423T142847
CREATED:20250317T143731Z
LAST-MODIFIED:20250317T143731Z
UID:8698-1743328800-1743343200@tcm-ernaehrung.at
SUMMARY:TCM Kochkurs Reinigen und Entschlacken
DESCRIPTION:Frühjahrsputz mit TCM zur Stärkung der Leberfunktion\nDer Frühling steht auch in der TCM für Neubeginn und Wachstum. Damit sich neue Ideen und Pläne umsetzen lassen\, muss das Qi (chinesisch für Lebenskraft\, Energie) ungehindert im Körper fließen können. Daher ist es wichtig\, im Frühling zuerst Altes loszulassen\, um Platz für Neues zu schaffen. \nDer Frühling ist die beste Zeit\, um den Körper zu reinigen und zu entgiften. Nach den üppigen Mahlzeiten des Winters leidet die Leber oft unter einer Stagnation\, die sich in Völlegefühl\, Verdauungsbeschwerden\, Wetterfühligkeit\, Gereiztheit und vielen anderen Beschwerden äußern kann.
URL:https://tcm-ernaehrung.at/termin/tcm-kochkurs-reinigen-und-entschlacken/
LOCATION:Kochstudio die Pause\, Sigmundsgasse 8\, Wien\, Wien\, 1070\, Austria
CATEGORIES:Kochkurs
ATTACH;FMTTYPE=image/jpeg:https://tcm-ernaehrung.at/wp-content/uploads/2025/03/113_111_DiePause_Kochkurs_Gruppe_mit-SD1.jpg
ORGANIZER;CN="Die Pause":MAILTO:office@diepause.at
END:VEVENT
END:VCALENDAR