BEGIN:VCALENDAR
VERSION:2.0
PRODID:-//Gesellschaft für Ernährung nach den 5 Elementen - ECPv6.15.20//NONSGML v1.0//EN
CALSCALE:GREGORIAN
METHOD:PUBLISH
X-WR-CALNAME:Gesellschaft für Ernährung nach den 5 Elementen
X-ORIGINAL-URL:https://tcm-ernaehrung.at
X-WR-CALDESC:Veranstaltungen für Gesellschaft für Ernährung nach den 5 Elementen
REFRESH-INTERVAL;VALUE=DURATION:PT1H
X-Robots-Tag:noindex
X-PUBLISHED-TTL:PT1H
BEGIN:VTIMEZONE
TZID:Europe/Rome
BEGIN:DAYLIGHT
TZOFFSETFROM:+0100
TZOFFSETTO:+0200
TZNAME:CEST
DTSTART:20250330T010000
END:DAYLIGHT
BEGIN:STANDARD
TZOFFSETFROM:+0200
TZOFFSETTO:+0100
TZNAME:CET
DTSTART:20251026T010000
END:STANDARD
BEGIN:DAYLIGHT
TZOFFSETFROM:+0100
TZOFFSETTO:+0200
TZNAME:CEST
DTSTART:20260329T010000
END:DAYLIGHT
BEGIN:STANDARD
TZOFFSETFROM:+0200
TZOFFSETTO:+0100
TZNAME:CET
DTSTART:20261025T010000
END:STANDARD
BEGIN:DAYLIGHT
TZOFFSETFROM:+0100
TZOFFSETTO:+0200
TZNAME:CEST
DTSTART:20270328T010000
END:DAYLIGHT
BEGIN:STANDARD
TZOFFSETFROM:+0200
TZOFFSETTO:+0100
TZNAME:CET
DTSTART:20271031T010000
END:STANDARD
END:VTIMEZONE
BEGIN:VEVENT
DTSTART;VALUE=DATE:20260306
DTEND;VALUE=DATE:20260307
DTSTAMP:20260421T161102
CREATED:20240409T125450Z
LAST-MODIFIED:20251112T090927Z
UID:7480-1772755200-1772841599@tcm-ernaehrung.at
SUMMARY:Original Bachblütentherapie Grundausbildung
DESCRIPTION:Kompakte fundierte Expertenausbildung für die Original Bachblütentherapie nach Dr. Edward Bach – zur Selbsthilfe\, für die Familie oder Kinder. \nDie Ausbildung ist Modul 1 der Dipl. Bachblütenberater/in Ausbildung – UPGRADE möglich.  \n„Psychologie erste Klasse – Psychologie erster Klasse!“ \nDie Bachblütentherapie wurde vom renommierten englischen Arzt Dr. Edward Bach (1886-1936) entwickelt. Sie verbindet altes keltisches Wissen mit den neuesten Erkenntnissen der Energetik und Psychoneuroimmunologie. \nDr. Edward Bach hatte als Chirurg\, Immunologe\, Bakteriologe\, Pathologe und Homöopath ein umfassendes medizinisches Wissen. Er forschte an den Zusammenhängen zwischen Psyche und Krankheit. Mit der von ihm entwickelten Bachblütentherapie ging er weit über die damaligen Behandlungsansätze hinaus. \nIn diesem Seminar erfahren Sie alles über die Original Bachblütentherapie und die hinterlassenen Schriften von Dr. Edward Bach. Sie erhalten wichtige Bachblütentipps für den Alltag\, lernen alle 38 Bachblüten im Detail kennen und bei scheinbaren Ähnlichkeiten sicher zu unterscheiden. \n„Jeder von uns hat in dieser Welt einen göttlichen Auftrag zu erfüllen. Und unsere Seele bedient sich des Körpers\, um dieser Aufgabe gerecht zu werden. Wenn alle 3 Aspekte unseres Wesens in Einklang miteinander arbeiten\, so sind vollkommene Gesundheit und ungetrübtes Glück die Folge.“\n(Edward Bach)
URL:https://tcm-ernaehrung.at/termin/original-bachbluetentherapie-grundausbildung/
LOCATION:Online + Live in Graz
CATEGORIES:Lehrgang,Online Lehrgang,Online Seminar,Seminare,Workshops
ATTACH;FMTTYPE=image/jpeg:https://tcm-ernaehrung.at/wp-content/uploads/2024/04/bablue_rothwangl_bachbluetenakademie.jpg
ORGANIZER;CN="BaBl%C3%BC Akademie":MAILTO:office@bablue.at
END:VEVENT
BEGIN:VEVENT
DTSTART;VALUE=DATE:20260307
DTEND;VALUE=DATE:20260308
DTSTAMP:20260421T161102
CREATED:20240718T101629Z
LAST-MODIFIED:20251112T091420Z
UID:7823-1772841600-1772927999@tcm-ernaehrung.at
SUMMARY:Dipl. Kräuterfachfrau/mann – Heilkräuterpädagoge/in
DESCRIPTION:Praxisorientierte Kräuterausbildung für Heilpflanzen\, Kräuterpädagogik\, Kräuteranbau/verarbeitung\, Kräuterapotheke und Naturkosmetik inkl. altes Wissen\, feinstoffliche Kräuteranwendungen und Räuchern \nEinzigartige Diplom-Kräuterausbildung in Österreich für: \naltes traditionelles Kräuterwissen und moderne Heilpflanzenkunde\nbotanische Grundlagen und Pflanzenbestimmung\,\nWildkräuter\, Wildpflanzen\, Wildgemüse und Wildobst\,\nKräutersammeln & Kräuteranbau im Bauerngarten\, Balkongarten\, Urban Gardening\,\nKräuterverarbeitung – Kräuter-Hausapotheke\, Frauenkräuter\, Heilpflanzen-Anwendungen\,\nDIY-Kräuterkosmetik\, Kräuter in der Natur-Küche inkl. Praxis\naltes Kräuter-Wissen aus der traditionellen europäischen Medizin\,\nfeinstoffliche Kräuteranwendungen mit Hexenkräutern\, Räuchern mit Kräutern und vieles mehr\nmit namhaften ExpertInnen und PraktikerInnen und\nganz viel Praxis im Kräutergarten und in der freien Natur! \nNächste Starttermine: \n07.03.2026 in Graz\n27.03.2026 in Salzburg
URL:https://tcm-ernaehrung.at/termin/dipl-kraeuterfachfrau-mann-heilkraeuterpaedagoge-in/
LOCATION:Steiermarkhof\, Ekkehard-Hauer-Straße 33\, Graz\, 8052\, Österreich
CATEGORIES:Kräuterführung,Lehrgang,Seminare
ATTACH;FMTTYPE=image/jpeg:https://tcm-ernaehrung.at/wp-content/uploads/2024/07/KraeuterWochentage©goldbany–stock.adobe_.com_-scaled.jpeg
ORGANIZER;CN="BaBl%C3%BC Akademie":MAILTO:office@bablue.at
END:VEVENT
BEGIN:VEVENT
DTSTART;VALUE=DATE:20260308
DTEND;VALUE=DATE:20260309
DTSTAMP:20260421T161102
CREATED:20240718T101413Z
LAST-MODIFIED:20250917T121856Z
UID:7835-1772928000-1773014399@tcm-ernaehrung.at
SUMMARY:Dipl. TEM-Kräuterexperte/in
DESCRIPTION:Online-Ausbildung für Traditionelle europäische Kräuterkunde der TEM\, altes Heilpflanzenwissen\, Signaturenlehre\, Mythologie & Brauchtum im Jahreskreis \nDie traditionelle europäische Medizin (TEM) fasst über Jahrtausende altes Wissen zusammen. Sie vereint die Pflanzenheilkunde der Klostermedizin\, die Hexenmedizin und überliefertes Brauchtum aus der Volksheilkunde. \nDas Wissen um heilende Pflanzen wurde meist mündlich von Generation zu Generation weitergegeben. Vieles ist durch die Entwicklung industriell hergestellter Medikamente und die Hexenverfolgung im Mittelalter über die Jahrhunderte hinweg verloren gegangen\, manches wurde als Hausmittel an Nachfahren überliefert. \nGerade in der heutigen Zeit\, in der viele Menschen unter Stress\, Beruf und Umweltbelastungen durch Chemie und Technik\, falsche Ernährung\, Bewegungsmangel leiden und die Zivilisationskrankheiten stark ansteigen\, besinnen sich viele Menschen wieder auf die Kraft der Natur\, um ihre Gesundheit zu erhalten und zu stärken. \nEntdecken auch Sie das traditionelle europäische Kräuter- und Heilpflanzenwissen\, die Mythologie und altes Brauchtum wieder für Ihre Praxis oder zur Selbsthilfe in der Familie! \nNächste Starttermine: \n13.09. live online\n08.03.26 live online
URL:https://tcm-ernaehrung.at/termin/dipl-tem-kraeuterexperte-in/
LOCATION:Online
CATEGORIES:Kräuterführung,Lehrgang,Online Lehrgang,Online Seminar,Online Workshop
ATTACH;FMTTYPE=image/jpeg:https://tcm-ernaehrung.at/wp-content/uploads/2024/07/AdobeStock_-chamillew216020177-scaled.jpg
ORGANIZER;CN="BaBl%C3%BC Akademie":MAILTO:office@bablue.at
END:VEVENT
BEGIN:VEVENT
DTSTART;VALUE=DATE:20260308
DTEND;VALUE=DATE:20260309
DTSTAMP:20260421T161102
CREATED:20240409T072922Z
LAST-MODIFIED:20260122T081100Z
UID:7359-1772928000-1773014399@tcm-ernaehrung.at
SUMMARY:TCM Vertiefungslehrgang – Die fünf Wandlungsphasen
DESCRIPTION:Die fünf Wandlungsphasen und Organfunktionskreise – Aufgaben\, Disharmonien\, Erscheinungsmerkmale in der Praxis inkl. detaillierter Behandlungs- und Ernährungsempfehlungen. \nIn diesem Modul lernen Sie jede der fünf Wandlungsphasen detailliert kennen\, all ihre potentiellen Ungleichgewichte mit ihren Erscheinungsmerkmalen in der Praxis\, mögliche Ursachen der jeweiligen Disharmonie inklusive detaillierter Ernährungsempfehlungen für den Ausgleich. \nNächster Starttermin: 31.10.2025 \nEndtermin: 08.02.2026
URL:https://tcm-ernaehrung.at/termin/tcm-vertiefungslehrgang-die-fuenf-wandlungsphasen/
LOCATION:Online
CATEGORIES:Lehrgang,Online Lehrgang,Online Seminar,Seminare
ATTACH;FMTTYPE=image/jpeg:https://tcm-ernaehrung.at/wp-content/uploads/2024/04/anna-pelzer-IGfIGP5ONV0-unsplash-scaled.jpg
ORGANIZER;CN="BaBl%C3%BC Akademie":MAILTO:office@bablue.at
END:VEVENT
END:VCALENDAR