BEGIN:VCALENDAR
VERSION:2.0
PRODID:-//Gesellschaft für Ernährung nach den 5 Elementen - ECPv6.15.20//NONSGML v1.0//EN
CALSCALE:GREGORIAN
METHOD:PUBLISH
X-ORIGINAL-URL:https://tcm-ernaehrung.at
X-WR-CALDESC:Veranstaltungen für Gesellschaft für Ernährung nach den 5 Elementen
REFRESH-INTERVAL;VALUE=DURATION:PT1H
X-Robots-Tag:noindex
X-PUBLISHED-TTL:PT1H
BEGIN:VTIMEZONE
TZID:Europe/Rome
BEGIN:DAYLIGHT
TZOFFSETFROM:+0100
TZOFFSETTO:+0200
TZNAME:CEST
DTSTART:20250330T010000
END:DAYLIGHT
BEGIN:STANDARD
TZOFFSETFROM:+0200
TZOFFSETTO:+0100
TZNAME:CET
DTSTART:20251026T010000
END:STANDARD
BEGIN:DAYLIGHT
TZOFFSETFROM:+0100
TZOFFSETTO:+0200
TZNAME:CEST
DTSTART:20260329T010000
END:DAYLIGHT
BEGIN:STANDARD
TZOFFSETFROM:+0200
TZOFFSETTO:+0100
TZNAME:CET
DTSTART:20261025T010000
END:STANDARD
BEGIN:DAYLIGHT
TZOFFSETFROM:+0100
TZOFFSETTO:+0200
TZNAME:CEST
DTSTART:20270328T010000
END:DAYLIGHT
BEGIN:STANDARD
TZOFFSETFROM:+0200
TZOFFSETTO:+0100
TZNAME:CET
DTSTART:20271031T010000
END:STANDARD
END:VTIMEZONE
BEGIN:VEVENT
DTSTART;VALUE=DATE:20260308
DTEND;VALUE=DATE:20260309
DTSTAMP:20260421T161713
CREATED:20240409T072922Z
LAST-MODIFIED:20260122T081100Z
UID:7359-1772928000-1773014399@tcm-ernaehrung.at
SUMMARY:TCM Vertiefungslehrgang – Die fünf Wandlungsphasen
DESCRIPTION:Die fünf Wandlungsphasen und Organfunktionskreise – Aufgaben\, Disharmonien\, Erscheinungsmerkmale in der Praxis inkl. detaillierter Behandlungs- und Ernährungsempfehlungen. \nIn diesem Modul lernen Sie jede der fünf Wandlungsphasen detailliert kennen\, all ihre potentiellen Ungleichgewichte mit ihren Erscheinungsmerkmalen in der Praxis\, mögliche Ursachen der jeweiligen Disharmonie inklusive detaillierter Ernährungsempfehlungen für den Ausgleich. \nNächster Starttermin: 31.10.2025 \nEndtermin: 08.02.2026
URL:https://tcm-ernaehrung.at/termin/tcm-vertiefungslehrgang-die-fuenf-wandlungsphasen/
LOCATION:Online
CATEGORIES:Lehrgang,Online Lehrgang,Online Seminar,Seminare
ATTACH;FMTTYPE=image/jpeg:https://tcm-ernaehrung.at/wp-content/uploads/2024/04/anna-pelzer-IGfIGP5ONV0-unsplash-scaled.jpg
ORGANIZER;CN="BaBl%C3%BC Akademie":MAILTO:office@bablue.at
END:VEVENT
BEGIN:VEVENT
DTSTART;VALUE=DATE:20260321
DTEND;VALUE=DATE:20260322
DTSTAMP:20260421T161713
CREATED:20240408T115950Z
LAST-MODIFIED:20251112T092416Z
UID:7292-1774051200-1774137599@tcm-ernaehrung.at
SUMMARY:Dipl. TCM Ernährungsberater/in
DESCRIPTION:Fundierte Diplomausbildung für ganzheitliche Ernährung nach den 5 Elementen der TCM\, Kinderwunsch\, Babykost\, Wechseljahre\, Unverträglichkeiten\, Stoffwechseltypen\, Abnehmen\, heimische Kräuter nach TCM\, Kochpraxis\, Beraterkompetenz & energetische Diagnostik. \nUnsere Diplomausbildung zur/m ganzheitliche Ernährungsberater/in für traditionelle chinesische Ernährungslehre nach den 5 Elementen der TCM ist eine umfangreiche Ausbildung mit über 750 Unterrichtseinheiten. \nNach Abschluss des Lehrgangs haben Sie die Möglichkeit\, bei Ihrer Gewerbebehörde auf individuelle Befähigung für das „Gewerbe Lebens- und Sozialberatung\, eingeschränkt auf Ernährungsberatung“ anzusuchen. \nDie BaBlü® Akademie ist Mitglied in der Gesellschaft für Ernährung nach den Fünf Elementen (der Traditionellen Chinesischen Medizin) und Mitglied im übergeordneten Dachverband „DACH – 5 EE Europäischer Dachverband für 5 Elemente Ernährung“
URL:https://tcm-ernaehrung.at/termin/dipl-tcm-ernaehrungsberater-in/
LOCATION:Online + Live in Graz
CATEGORIES:Infoabend,Kochkurs,Lehrgang,Online Infoabend,Online Lehrgang,Online Seminar,Online Workshop,Seminare,Workshops
ATTACH;FMTTYPE=image/jpeg:https://tcm-ernaehrung.at/wp-content/uploads/2024/04/TCMSuppeKuerbis©DocEver–stock.adobe_.com_.jpeg
ORGANIZER;CN="BaBl%C3%BC Akademie":MAILTO:office@bablue.at
END:VEVENT
END:VCALENDAR