BEGIN:VCALENDAR
VERSION:2.0
PRODID:-//Gesellschaft für Ernährung nach den 5 Elementen - ECPv6.15.20//NONSGML v1.0//EN
CALSCALE:GREGORIAN
METHOD:PUBLISH
X-ORIGINAL-URL:https://tcm-ernaehrung.at
X-WR-CALDESC:Veranstaltungen für Gesellschaft für Ernährung nach den 5 Elementen
REFRESH-INTERVAL;VALUE=DURATION:PT1H
X-Robots-Tag:noindex
X-PUBLISHED-TTL:PT1H
BEGIN:VTIMEZONE
TZID:Europe/Rome
BEGIN:DAYLIGHT
TZOFFSETFROM:+0100
TZOFFSETTO:+0200
TZNAME:CEST
DTSTART:20240331T010000
END:DAYLIGHT
BEGIN:STANDARD
TZOFFSETFROM:+0200
TZOFFSETTO:+0100
TZNAME:CET
DTSTART:20241027T010000
END:STANDARD
BEGIN:DAYLIGHT
TZOFFSETFROM:+0100
TZOFFSETTO:+0200
TZNAME:CEST
DTSTART:20250330T010000
END:DAYLIGHT
BEGIN:STANDARD
TZOFFSETFROM:+0200
TZOFFSETTO:+0100
TZNAME:CET
DTSTART:20251026T010000
END:STANDARD
BEGIN:DAYLIGHT
TZOFFSETFROM:+0100
TZOFFSETTO:+0200
TZNAME:CEST
DTSTART:20260329T010000
END:DAYLIGHT
BEGIN:STANDARD
TZOFFSETFROM:+0200
TZOFFSETTO:+0100
TZNAME:CET
DTSTART:20261025T010000
END:STANDARD
END:VTIMEZONE
BEGIN:VEVENT
DTSTART;TZID=Europe/Rome:20250718T170000
DTEND;TZID=Europe/Rome:20250718T203000
DTSTAMP:20260424T122304
CREATED:20240109T131557Z
LAST-MODIFIED:20250117T125953Z
UID:6874-1752858000-1752870600@tcm-ernaehrung.at
SUMMARY:Fermentierkurs
DESCRIPTION:Entdecke die Welt der Fermentation in unserem Kurs! Lerne\, köstliche probiotische Köstlichkeiten zu kreieren. Wir erklären außerdem\, wie Sauerkraut\, Kimchi und Co das Mikrobiom unterstützen und deine Gesundheit verbessern können. \nTermin: Freitag\, 18. Juli 2025\, 17:00 bis 20:30 Uhr \nOrt: Firmiangasse 25\, 1130 Wien \nPreis: € 149\,– inkl. 6 Fermente zum Mitnehmen und Snacks
URL:https://tcm-ernaehrung.at/termin/fermentierkurs/
CATEGORIES:Kochkurs
ATTACH;FMTTYPE=image/png:https://tcm-ernaehrung.at/wp-content/uploads/2024/01/Fermentierkurs_01.png
ORGANIZER;CN="Petra Paumann":MAILTO:office@petrapaumann.at
END:VEVENT
END:VCALENDAR