BEGIN:VCALENDAR
VERSION:2.0
PRODID:-//Gesellschaft für Ernährung nach den 5 Elementen - ECPv6.15.20//NONSGML v1.0//EN
CALSCALE:GREGORIAN
METHOD:PUBLISH
X-ORIGINAL-URL:https://tcm-ernaehrung.at
X-WR-CALDESC:Veranstaltungen für Gesellschaft für Ernährung nach den 5 Elementen
REFRESH-INTERVAL;VALUE=DURATION:PT1H
X-Robots-Tag:noindex
X-PUBLISHED-TTL:PT1H
BEGIN:VTIMEZONE
TZID:Europe/Rome
BEGIN:DAYLIGHT
TZOFFSETFROM:+0100
TZOFFSETTO:+0200
TZNAME:CEST
DTSTART:20230326T010000
END:DAYLIGHT
BEGIN:STANDARD
TZOFFSETFROM:+0200
TZOFFSETTO:+0100
TZNAME:CET
DTSTART:20231029T010000
END:STANDARD
BEGIN:DAYLIGHT
TZOFFSETFROM:+0100
TZOFFSETTO:+0200
TZNAME:CEST
DTSTART:20240331T010000
END:DAYLIGHT
BEGIN:STANDARD
TZOFFSETFROM:+0200
TZOFFSETTO:+0100
TZNAME:CET
DTSTART:20241027T010000
END:STANDARD
BEGIN:DAYLIGHT
TZOFFSETFROM:+0100
TZOFFSETTO:+0200
TZNAME:CEST
DTSTART:20250330T010000
END:DAYLIGHT
BEGIN:STANDARD
TZOFFSETFROM:+0200
TZOFFSETTO:+0100
TZNAME:CET
DTSTART:20251026T010000
END:STANDARD
END:VTIMEZONE
BEGIN:VEVENT
DTSTART;TZID=Europe/Rome:20240110T180000
DTEND;TZID=Europe/Rome:20240110T200000
DTSTAMP:20260421T195020
CREATED:20230822T193848Z
LAST-MODIFIED:20240109T132703Z
UID:6498-1704909600-1704916800@tcm-ernaehrung.at
SUMMARY:Wechseljahre – der Weg in die Weisheit
DESCRIPTION:WECHSELJAHRE – der Weg in die Weisheit\nbetrachtet mit TCM/5 Elemente-Philosophie\, Jin Shin Jyutsu\, Energetik und Spiritualität. \nDer Wechsel ist sowohl für die Frau wie auch für den Mann (midlife-crisis) eine Zeit der Wandlung. Es ist eine Zeit des Abschieds und des Neubeginns. Je bewusster sowohl Frau wie auch Mann durch den Wechsel hindurch gehen umso tiefer gelangen sie zu ihrem wahren Selbst und zu der ihnen innewohnenden Weisheit und können mit den Symptomen\, die der Wechsel mit sich bringt\, achtsam\, bewusst und dankbar umgehen. \nIn diesem Workshop betrachten wir den Wechsel aus verschiedenen Sichtweisen wie: \nPhilosophie der TCM\n5-Elemente Ernährung\nJin Shin Jyutsu\nKinesiologie\nNaturheilkunde \nDieses Seminar möchte Sie unterstützen\, den Wechsel einmal von einer ganz anderen Seite aus zu betrachten\, sodass Sie bewusster\, achtsamer und auch dankbar durch die Wechseljahre hindurch gehen und das\, was mit dem Körper und dem Wesen geschieht\, auch besser verstehen und damit akzeptieren und lieben können.\nWir werden gemeinsam auch die Ernährung nach TCM in dieser Zeit betrachten und Wege zeigen\, wie Sie diese ganz gezielt einsetzen können.\nViele Tipps aus TCM\, Kinesiologie\, Jin Shin Jyutsu und Naturheilkunde wie auch Übungen und eine Meditation ergänzen den ganzheitlichen Weg durch den Wechsel\, hinein in die Weisheit! \nReferentin: Claudia Holl\, www.kch.at\nVeranstaltungsort: online\nVeranstalter: Zentrum für Naturheilkunde München\nDatum: 2 Abende 10. und 17. Jänner 2024 jeweils von 18.00 – 20.00 Uhr
URL:https://tcm-ernaehrung.at/termin/wechseljahre-der-weg-in-die-weisheit/
LOCATION:Online
CATEGORIES:Online Workshop
ATTACH;FMTTYPE=image/jpeg:https://tcm-ernaehrung.at/wp-content/uploads/2023/08/Akaroa1_klein_KCH.jpg
ORGANIZER;CN="Zentrum f%C3%BCr Naturheilkunde":MAILTO:info@zfn.de
END:VEVENT
END:VCALENDAR