BEGIN:VCALENDAR
VERSION:2.0
PRODID:-//Gesellschaft für Ernährung nach den 5 Elementen - ECPv6.15.20//NONSGML v1.0//EN
CALSCALE:GREGORIAN
METHOD:PUBLISH
X-ORIGINAL-URL:https://tcm-ernaehrung.at
X-WR-CALDESC:Veranstaltungen für Gesellschaft für Ernährung nach den 5 Elementen
REFRESH-INTERVAL;VALUE=DURATION:PT1H
X-Robots-Tag:noindex
X-PUBLISHED-TTL:PT1H
BEGIN:VTIMEZONE
TZID:Europe/Rome
BEGIN:DAYLIGHT
TZOFFSETFROM:+0100
TZOFFSETTO:+0200
TZNAME:CEST
DTSTART:20240331T010000
END:DAYLIGHT
BEGIN:STANDARD
TZOFFSETFROM:+0200
TZOFFSETTO:+0100
TZNAME:CET
DTSTART:20241027T010000
END:STANDARD
BEGIN:DAYLIGHT
TZOFFSETFROM:+0100
TZOFFSETTO:+0200
TZNAME:CEST
DTSTART:20250330T010000
END:DAYLIGHT
BEGIN:STANDARD
TZOFFSETFROM:+0200
TZOFFSETTO:+0100
TZNAME:CET
DTSTART:20251026T010000
END:STANDARD
BEGIN:DAYLIGHT
TZOFFSETFROM:+0100
TZOFFSETTO:+0200
TZNAME:CEST
DTSTART:20260329T010000
END:DAYLIGHT
BEGIN:STANDARD
TZOFFSETFROM:+0200
TZOFFSETTO:+0100
TZNAME:CET
DTSTART:20261025T010000
END:STANDARD
END:VTIMEZONE
BEGIN:VEVENT
DTSTART;VALUE=DATE:20251014
DTEND;VALUE=DATE:20251015
DTSTAMP:20260425T142851
CREATED:20231206T221420Z
LAST-MODIFIED:20250818T185349Z
UID:6823-1760400000-1760486399@tcm-ernaehrung.at
SUMMARY:6 Wochen Online-Kurs „Leicht und gelassen durch die Wechseljahre“
DESCRIPTION:In diesem Kurs vermitteln wir dir das notwendige Wissen und Bewusstsein\, damit du deinen Körper besser verstehen und mit unser Motivation und Unterstützung die nachfolgenden Punkte für dich nachhaltig verbessern kannst. \nDu lernst\ndie wichtigsten Strategien um dein Wohlfühlgewicht zu erreichen und auch zu halten\nwie du Heißhunger-Attacken vermeiden kannst und Schoki und Chips in der Schublade bleiben\nwie du deinen Schlaf nachhaltig verbessern und morgens gut erholt in den Tag starten kannst\nwie du deine Hitzewallungen abkühlen kannst und deinen Alltag wieder unbeschwert genießen kannst\nwie dein Stresslevel und deine Stimmungsschwankungen zusammen hängen und\nwie wichtig die Themen Selbstfürsorge und Selbstverantwortung in diesem Zusammenhang für dein Wohlbefinden sind \nProfitiere von der positiven Energie der Gruppe\, gehe deine persönlichen Themen an und lass uns gemeinsam den Weg zu mehr Leichtigkeit in den Wechseljahren finden. Wir freuen uns auf dich! \nFrühbucherpreis von € 499\,–.\nAlle Infos und Anmeldung: http://www.petrapaumann.at/leicht-und-gelassen-durch-die-wechseljahre/ \n14.10.2025 bis 24.11.2025
URL:https://tcm-ernaehrung.at/termin/6-wochen-online-kurs-leicht-und-gelassen-durch-die-wechseljahre/
LOCATION:Online
CATEGORIES:Online Lehrgang
ATTACH;FMTTYPE=image/png:https://tcm-ernaehrung.at/wp-content/uploads/2023/12/Wechseljahrekurs_ab-14.Oktober2025-1.png
ORGANIZER;CN="Petra Paumann":MAILTO:office@petrapaumann.at
END:VEVENT
BEGIN:VEVENT
DTSTART;VALUE=DATE:20251024
DTEND;VALUE=DATE:20251025
DTSTAMP:20260425T142851
CREATED:20240409T125939Z
LAST-MODIFIED:20250122T112516Z
UID:7446-1761264000-1761350399@tcm-ernaehrung.at
SUMMARY:Wurzelkraft – Wurzeln in der Küche und Naturapotheke
DESCRIPTION:In diesem Praxisseminar begleiten wir Sie zurück zum Ursprung unserer Vorfahren. Davon profitieren Körper\, Geist und Seele. Denn es steckt unendlich viel Kraft in Wurzeln\, die direkt vor unserer Haustüre wachsen! Herkömmliches Wurzelgemüse vom Supermarkt enthält im Vergleich zu den wilden Vertretern nur wenig wertvolle Inhaltsstoffe. Nicht nur\, dass Sie mehr Nährstoffe\, Mineralien oder Vitamine enthalten\, sie sind für uns kostenlos! \nDie Arbeit mit den Händen in der Erde „erdet“ zugleich. Wir entspannen\, finden wieder unsere innere Mitte zurück und entschleunigen. Das Wurzelausgraben schenkt Ihnen somit nicht nur vitale Lebens- oder Naturheilmittel\, sondern auch eine wertvolle Auszeit. \nIn dieser Ausbildung eröffnet sich für Sie eine neue Welt\, die unter der Erde liegt für mehr Gesundheit und Vitalität! \nNächster Starttermin: 24.10. in Salzburg
URL:https://tcm-ernaehrung.at/termin/wurzelkraft-wurzeln-in-der-kueche-und-naturapotheke/
LOCATION:Online
CATEGORIES:Kochkurs,Kräuterführung,Lehrgang,Seminare,Workshops
ATTACH;FMTTYPE=image/jpeg:https://tcm-ernaehrung.at/wp-content/uploads/2024/04/AdobeStock_-nikolaydonetsk-366415260-scaled.jpg
ORGANIZER;CN="BaBl%C3%BC Akademie":MAILTO:office@bablue.at
END:VEVENT
BEGIN:VEVENT
DTSTART;VALUE=DATE:20251025
DTEND;VALUE=DATE:20251026
DTSTAMP:20260425T142851
CREATED:20240109T131433Z
LAST-MODIFIED:20250818T184007Z
UID:6886-1761350400-1761436799@tcm-ernaehrung.at
SUMMARY:Online Detox-Kur
DESCRIPTION:Bei der Detox-Woche verzichten wir großteils auf säurebildende Lebensmittel und Getränke und versuchen Stress zu minimieren. Die Gruppe wird über WhatsApp geführt und es gibt mehrmals wöchentlich begleitende Zoom-Calls sowie einen Call zur Vorbereitung. Du erhältst einen Wochenplan und das Buch „Die 14-Tage Detox-Kur“. Detox in der Gruppe macht Spaß und wir motivieren uns gegenseitig zum Dranbleiben. \n25.10.2025 bis 31.10.2025
URL:https://tcm-ernaehrung.at/termin/online-detox-kur-4/
LOCATION:Online
CATEGORIES:Online Workshop
ATTACH;FMTTYPE=image/png:https://tcm-ernaehrung.at/wp-content/uploads/2023/12/Foto-Detox-mit-Genuss-1.png
ORGANIZER;CN="Petra Paumann":MAILTO:office@petrapaumann.at
END:VEVENT
BEGIN:VEVENT
DTSTART;TZID=Europe/Rome:20251030T183000
DTEND;TZID=Europe/Rome:20251030T203000
DTSTAMP:20260425T142851
CREATED:20251005T121404Z
LAST-MODIFIED:20251005T123902Z
UID:9316-1761849000-1761856200@tcm-ernaehrung.at
SUMMARY:ONLINE SCHULUNG - Keto (Low Carb) aus Sicht der TCM - Möglichkeiten & Synergien Webinar 1
DESCRIPTION:Immer mehr Menschen profitieren von einer kohlenhydratarmen oder ketogenen Ernährung – doch viele TCM-Ernährungsberater stehen diesem Ansatz skeptisch gegenüber. In diesem zweiteiligen Webinar zeige ich dir\, wie sich LowCarb und TCM nicht ausschließen\, sondern einander sinnvoll ergänzen.\n\nDu erfährst\, wie sich Stoffwechselprozesse aus Sicht der westlichen Medizin und der TCM verbinden lassen. Wir beleuchten\, was im Körper bei der Zuckerreduktion tatsächlich passiert\, wie sich Ketonkörper auf Energie\, Entzündungen\, Schlaf und Stimmung auswirken und welche Parallelen zur Qi-Ökonomie bestehen.\n\nIch erkläre\, wie du Feuchtigkeit\, Schleim und innere Hitze durch gezielte Kohlenhydratreduktion regulierst und warum die klassische Sorge um „Milz-Qi-Schwäche“ oft auf Missverständnissen beruht.\n\nZiel ist\, Brücken zu bauen: zwischen Erfahrung und Forschung\, Yin und Yang\, Glukose und Fettverbrennung. So öffnet sich ein neuer Blick auf Ernährung\, der beide Welten vereint und zu messbar besseren Ergebnissen führt.\n  \nKursleitung: Daniela Pfeifer\, Diätologin\, Autorin\, Expertin für TCM – LowCarb-Keto \nDieses 2-teilige Webinar wird von der g5e veranstaltet. Als g5e-Mitglied kannst du zum Mitgliederpreis teilnehmen. \nTeil 1: 30.10.2025\, 18:30 bis 20:30 Uhr\nTeil 2: 13.11.2025\, 18:30 bis 20:30 Uhr \nTeilnahmegebühren:\nMitgliederpreis für beide Teile: EUR 35\,00\nNicht-Mitgliederpreis für beide Teile: EUR 80\,00 \nAufzeichnung: Eine Aufzeichnung beider Teile wird allen angemeldeten Teilnehmer:innen für ca. 14 Tage zum Nachschauen zur Verfügung gestellt\, solltest du an einem der beiden Termine nicht live dabei sein können. \nBitte melde dich hier verbindlich an!
URL:https://tcm-ernaehrung.at/termin/online-schulung-keto-lowcarb-teil-1-2/
LOCATION:Online
CATEGORIES:Online Seminar
ATTACH;FMTTYPE=image/jpeg:https://tcm-ernaehrung.at/wp-content/uploads/2025/10/Daniela_Pfeifer_Portrait-e1759666383913.jpg
ORGANIZER;CN="g5e":MAILTO:office@tcm-ernaehrung.at
END:VEVENT
END:VCALENDAR