BEGIN:VCALENDAR
VERSION:2.0
PRODID:-//Gesellschaft für Ernährung nach den 5 Elementen - ECPv6.15.20//NONSGML v1.0//EN
CALSCALE:GREGORIAN
METHOD:PUBLISH
X-ORIGINAL-URL:https://tcm-ernaehrung.at
X-WR-CALDESC:Veranstaltungen für Gesellschaft für Ernährung nach den 5 Elementen
REFRESH-INTERVAL;VALUE=DURATION:PT1H
X-Robots-Tag:noindex
X-PUBLISHED-TTL:PT1H
BEGIN:VTIMEZONE
TZID:Europe/Rome
BEGIN:DAYLIGHT
TZOFFSETFROM:+0100
TZOFFSETTO:+0200
TZNAME:CEST
DTSTART:20240331T010000
END:DAYLIGHT
BEGIN:STANDARD
TZOFFSETFROM:+0200
TZOFFSETTO:+0100
TZNAME:CET
DTSTART:20241027T010000
END:STANDARD
BEGIN:DAYLIGHT
TZOFFSETFROM:+0100
TZOFFSETTO:+0200
TZNAME:CEST
DTSTART:20250330T010000
END:DAYLIGHT
BEGIN:STANDARD
TZOFFSETFROM:+0200
TZOFFSETTO:+0100
TZNAME:CET
DTSTART:20251026T010000
END:STANDARD
BEGIN:DAYLIGHT
TZOFFSETFROM:+0100
TZOFFSETTO:+0200
TZNAME:CEST
DTSTART:20260329T010000
END:DAYLIGHT
BEGIN:STANDARD
TZOFFSETFROM:+0200
TZOFFSETTO:+0100
TZNAME:CET
DTSTART:20261025T010000
END:STANDARD
END:VTIMEZONE
BEGIN:VEVENT
DTSTART;VALUE=DATE:20250911
DTEND;VALUE=DATE:20250912
DTSTAMP:20260425T145342
CREATED:20250819T062529Z
LAST-MODIFIED:20250819T062529Z
UID:9184-1757548800-1757635199@tcm-ernaehrung.at
SUMMARY:Basische Yoga-Tage am Kreischberg
DESCRIPTION:Termin: 11.-14.09.2025\n4 Tage basische Ernährung nach TCM\, 6 Yoga- und Atemeinheiten\, freie Zeit im Grünen (Laufmöglichkeiten entlang der Mur\, Spaziergänge\, Radweg\, etc.) oder am hauseigenen Pool mit Sauna. \nWir praktizieren im Yogaraum mit Holzambiente\, im Freien und am Berg\, kochen einmal gemeinsam unter Petras Anleitung in einer Gastro-tauglichen Küche mit viel Platz zum Experimentieren (kochen meine beliebteste Rezepte mit regionalem Bio-Gemüse) und entspannen im Grünen\, mit frischer Bergluft in der Nase. Wenn uns das Wetter wohl gesonnen ist\, wandern wir und praktizieren am Berg und nehmen selbstgemachtes basisches Picknick mit.
URL:https://tcm-ernaehrung.at/termin/basische-yoga-tage-am-kreischberg/
CATEGORIES:Seminare,Workshops
ATTACH;FMTTYPE=image/jpeg:https://tcm-ernaehrung.at/wp-content/uploads/2025/08/Basische-Yoga-Tage_1-1.jpeg
ORGANIZER;CN="Petra Paumann":MAILTO:office@petrapaumann.at
END:VEVENT
BEGIN:VEVENT
DTSTART;TZID=Europe/Rome:20250919T160000
DTEND;TZID=Europe/Rome:20250919T200000
DTSTAMP:20260425T145342
CREATED:20240306T165818Z
LAST-MODIFIED:20250818T185755Z
UID:7204-1758297600-1758312000@tcm-ernaehrung.at
SUMMARY:Kochworkshop „Vegan und eiweißreich kochen"
DESCRIPTION:Vegan und trotzdem eiweißreich kochen! \nIn unserem veganen Kochworkshop zeigen wir dir\, wie du eiweißreiche\, pflanzliche Gerichte ganz ohne künstliche Ersatzprodukte zubereiten kannst. Freu dich auf kreative Rezepte\, die köstlich\, nahrhaft und einfach nachzukochen sind!
URL:https://tcm-ernaehrung.at/termin/kochworkshop-tcm-fruehstueck/
CATEGORIES:Kochkurs
ATTACH;FMTTYPE=image/jpeg:https://tcm-ernaehrung.at/wp-content/uploads/2024/03/Veganer-Kochkurs_19.09.2025.jpg
ORGANIZER;CN="Petra Paumann":MAILTO:office@petrapaumann.at
END:VEVENT
BEGIN:VEVENT
DTSTART;TZID=Europe/Rome:20250926T081500
DTEND;TZID=Europe/Rome:20250926T173000
DTSTAMP:20260425T145342
CREATED:20250407T102844Z
LAST-MODIFIED:20250407T105618Z
UID:8789-1758874500-1758907800@tcm-ernaehrung.at
SUMMARY:g5e Ernährungstag am 22. TAO-Kongress 2025
DESCRIPTION:22. TAO-Kongress\, Graz\, 25. bis 27. September 2025\n  \nDer TAO Kongress 2025 steht ganz im Zeichen der Themen „Neurologie – Gastroentereologie – Hormone“. Mit unserem Ernährungstag am TAO-Kongress decken wir mit unseren tollen ReferentInnen auch heuer wieder alle Kongressthemen ab. Und das ist unser Programm: \nG5e Ernährungstag am 26.09.2025 \n\n08:15 bis 09:45 Uhr: Elke Hauenstein – Stief\, Hormonelle Dysbalancen aus Sicht des Chinese Face Reading\n11:30 bis 13:00 Uhr: Mike Mandl\, Testosteron\, Nieren-Yang und Männergesundheit\, der Testosteronspiegel sinkt seit Jahrzehnten sukzessive. Eine Mitursache: Die Ernährung.\n14:15 bis 15:45 Uhr: Uwe Siedentopp\,  Darm\, Stress\, Schlaf – Mit Chrono-Nutrition und Diätetik Störungen der Bauch-Hirn-Achse wirksam behandeln\n16:15 bis 17:45 Uhr: Alexandra Knauer\, Diätetische Maßnahmen bei unklaren Verdauungsbeschwerden\n\n  \nKarten für den g5e-Ernährungstag\nfür g5e-Mitglieder € 85\,00 inkl. Mittagessen und Kaffeepausen\nfür Nicht-Mitglieder € 110\,00 inkl. Mittagessen und Kaffeepausen \nHier geht’s zur Anmeldung!
URL:https://tcm-ernaehrung.at/termin/g5e-ernaehrungstag-am-22-tao-kongress-2025/
LOCATION:Steiermarkhof\, Ekkehard-Hauer-Straße 33\, Graz\, 8052\, Österreich
CATEGORIES:Workshops
ATTACH;FMTTYPE=image/png:https://tcm-ernaehrung.at/wp-content/uploads/2025/04/Save-the-date-TAO-.png
ORGANIZER;CN="g5e":MAILTO:office@tcm-ernaehrung.at
END:VEVENT
BEGIN:VEVENT
DTSTART;TZID=Europe/Rome:20250927T100000
DTEND;TZID=Europe/Rome:20250927T140000
DTSTAMP:20260425T145342
CREATED:20231023T202304Z
LAST-MODIFIED:20250117T130135Z
UID:6676-1758967200-1758981600@tcm-ernaehrung.at
SUMMARY:Koch-Workshop „Schnelle gesunde Küche & Mealprepping“
DESCRIPTION:Nadja Sonnenschein und ich zeigen euch\, wie man im stressigen Alltag schnelle und gesunde Gerichte zaubern kann. Außerdem erfährst du Wissenswertes zu den 5 Elementen. \nWo: Firmiangasse 25\, 1130 Wien
URL:https://tcm-ernaehrung.at/termin/koch-workshop-schnelle-gesunde-kueche-mealprepping/
CATEGORIES:Kochkurs
ATTACH;FMTTYPE=image/jpeg:https://tcm-ernaehrung.at/wp-content/uploads/2023/10/Kochworkshop-Mealprep-27.09.2025.jpg
ORGANIZER;CN="Petra Paumann":MAILTO:office@petrapaumann.at
END:VEVENT
BEGIN:VEVENT
DTSTART;TZID=Europe/Rome:20250930T193000
DTEND;TZID=Europe/Rome:20250930T210000
DTSTAMP:20260425T145342
CREATED:20231130T102335Z
LAST-MODIFIED:20250818T185622Z
UID:6774-1759260600-1759266000@tcm-ernaehrung.at
SUMMARY:Kostenfreies Webinar “Nicht verrückt - nur im Wandel”
DESCRIPTION:In unserem kostenlosen Webinar zeigen Simone Weiß\, Gesundheitscoach für Ernährung und Psyche\, und ich dir …\n… wie du unkompliziert und alltagstauglich mit der integrativen Ernährung (der Kombi aus westlicher Ernährungswissenschaft und Traditioneller Chinesischer Medizin) dein Wohlfühlgewicht erreichen und langfristig halten kannst\n… wie du deinen Schlaf nachhaltig verbessern kannst\n… welche Tipps bei Hitzewallungen wirklich helfen\n… wie dein Stresslevel und deine Stimmungsschwankungen zusammen hängen und wie wichtig die Themen Selbstfürsorge und Selbstverantwortung in diesem Zusammenhang für dein Wohlbefinden sind\nAnmeldung: https://www.petrapaumann.at/webinar-wechseljahre/
URL:https://tcm-ernaehrung.at/termin/webinar-leicht-und-gelassen-durch-die-wechseljahre/
LOCATION:Online
CATEGORIES:Online Vortrag
ATTACH;FMTTYPE=image/jpeg:https://tcm-ernaehrung.at/wp-content/uploads/2023/11/Webinar-Nicht-verrueckt-nur-im-Wandel.jpeg
ORGANIZER;CN="Petra Paumann":MAILTO:office@petrapaumann.at
END:VEVENT
END:VCALENDAR