BEGIN:VCALENDAR
VERSION:2.0
PRODID:-//Gesellschaft für Ernährung nach den 5 Elementen - ECPv6.15.20//NONSGML v1.0//EN
CALSCALE:GREGORIAN
METHOD:PUBLISH
X-ORIGINAL-URL:https://tcm-ernaehrung.at
X-WR-CALDESC:Veranstaltungen für Gesellschaft für Ernährung nach den 5 Elementen
REFRESH-INTERVAL;VALUE=DURATION:PT1H
X-Robots-Tag:noindex
X-PUBLISHED-TTL:PT1H
BEGIN:VTIMEZONE
TZID:Europe/Rome
BEGIN:DAYLIGHT
TZOFFSETFROM:+0100
TZOFFSETTO:+0200
TZNAME:CEST
DTSTART:20250330T010000
END:DAYLIGHT
BEGIN:STANDARD
TZOFFSETFROM:+0200
TZOFFSETTO:+0100
TZNAME:CET
DTSTART:20251026T010000
END:STANDARD
BEGIN:DAYLIGHT
TZOFFSETFROM:+0100
TZOFFSETTO:+0200
TZNAME:CEST
DTSTART:20260329T010000
END:DAYLIGHT
BEGIN:STANDARD
TZOFFSETFROM:+0200
TZOFFSETTO:+0100
TZNAME:CET
DTSTART:20261025T010000
END:STANDARD
BEGIN:DAYLIGHT
TZOFFSETFROM:+0100
TZOFFSETTO:+0200
TZNAME:CEST
DTSTART:20270328T010000
END:DAYLIGHT
BEGIN:STANDARD
TZOFFSETFROM:+0200
TZOFFSETTO:+0100
TZNAME:CET
DTSTART:20271031T010000
END:STANDARD
END:VTIMEZONE
BEGIN:VEVENT
DTSTART;VALUE=DATE:20260201
DTEND;VALUE=DATE:20260202
DTSTAMP:20260421T115339
CREATED:20240718T101718Z
LAST-MODIFIED:20260122T081125Z
UID:7817-1769904000-1769990399@tcm-ernaehrung.at
SUMMARY:Gratis Webinare & Infoabende
DESCRIPTION:Gewinnen Sie einen Einblick in ganzheitliche Gesundheitsmethoden! Sammeln Sie DIY-Wissen für mehr Gesundheit\, Wohlbefinden & Leichtigkeit! \nLernen Sie unsere Expert/innen & Ihre zukünftigen Vortragenden kennen. \nPlätze limitiert – zeitnahe Anmeldung empfohlen!
URL:https://tcm-ernaehrung.at/termin/kostenlose-diy-webinare-infoabende/
LOCATION:Online
CATEGORIES:Infoabend,Online Infoabend,Online Vortrag
ATTACH;FMTTYPE=image/jpeg:https://tcm-ernaehrung.at/wp-content/uploads/2024/07/AdobeStock_109587479-contrastwerkstatt_2.jpg
ORGANIZER;CN="BaBl%C3%BC Akademie":MAILTO:office@bablue.at
END:VEVENT
END:VCALENDAR