BEGIN:VCALENDAR
VERSION:2.0
PRODID:-//Gesellschaft für Ernährung nach den 5 Elementen - ECPv6.15.20//NONSGML v1.0//EN
CALSCALE:GREGORIAN
METHOD:PUBLISH
X-WR-CALNAME:Gesellschaft für Ernährung nach den 5 Elementen
X-ORIGINAL-URL:https://tcm-ernaehrung.at
X-WR-CALDESC:Veranstaltungen für Gesellschaft für Ernährung nach den 5 Elementen
REFRESH-INTERVAL;VALUE=DURATION:PT1H
X-Robots-Tag:noindex
X-PUBLISHED-TTL:PT1H
BEGIN:VTIMEZONE
TZID:Europe/Rome
BEGIN:DAYLIGHT
TZOFFSETFROM:+0100
TZOFFSETTO:+0200
TZNAME:CEST
DTSTART:20240331T010000
END:DAYLIGHT
BEGIN:STANDARD
TZOFFSETFROM:+0200
TZOFFSETTO:+0100
TZNAME:CET
DTSTART:20241027T010000
END:STANDARD
BEGIN:DAYLIGHT
TZOFFSETFROM:+0100
TZOFFSETTO:+0200
TZNAME:CEST
DTSTART:20250330T010000
END:DAYLIGHT
BEGIN:STANDARD
TZOFFSETFROM:+0200
TZOFFSETTO:+0100
TZNAME:CET
DTSTART:20251026T010000
END:STANDARD
BEGIN:DAYLIGHT
TZOFFSETFROM:+0100
TZOFFSETTO:+0200
TZNAME:CEST
DTSTART:20260329T010000
END:DAYLIGHT
BEGIN:STANDARD
TZOFFSETFROM:+0200
TZOFFSETTO:+0100
TZNAME:CET
DTSTART:20261025T010000
END:STANDARD
END:VTIMEZONE
BEGIN:VEVENT
DTSTART;TZID=Europe/Rome:20251122T100000
DTEND;TZID=Europe/Rome:20251122T140000
DTSTAMP:20260424T021600
CREATED:20241104T195709Z
LAST-MODIFIED:20250117T125255Z
UID:8141-1763805600-1763820000@tcm-ernaehrung.at
SUMMARY:Weihnachtlicher Kochkurs nach 5 Elementen
DESCRIPTION:Bei unserem Weihnachtlichem Kochkurs zaubern wir ein 3-Gang-Menü sowie 3 kulinarische Geschenks-Ideen zum Mitnehmen. \nMenü:\n– Maronisuppe mit Blätterteigbäumchen\n– Linsenbraten mit weihnachtlichem Rotkraut und Petersilienwurzelpüree\n– Bratapfelcrumble auf Zimtcreme \nGeschenks-Ideen zum Mitnehmen:\n– Milchreis 1001 Nacht\n– Senf in Pink\n– Meistertonikum (Oxymel) \nBrauchst du Ideen für ein vegetarisches Weihnachtsmenü? Dann komm in unseren Kurs!\nWeißt du nicht\, was du verschenken sollst\, weil jede*r schon alles hat? Über kulinarische Geschenksideen freut sich bestimmt jede*r! \nWie immer gibt’s bei unseren Workshops ganz viele praktische Tipps und Infos zu gesunder Ernährung. \nPreis: € 159\,– inkl. Rezepte zum Mitnehmen \nMit Petra Paumann (TCM Ernährungsberaterin\, integrative Ernährungsexpertin) und Nadja Sonnenschein (integrative Ernährungsexpertin\, craniosacrale Biodynamikerin\, Kinesiologin) \nInfos auf der Website:www.petrapaumann.at\nAnmeldung: office@petrapaumann.at
URL:https://tcm-ernaehrung.at/termin/weihnachtlicher-kochkurs-nach-5-elementen/
CATEGORIES:Kochkurs
ATTACH;FMTTYPE=image/jpeg:https://tcm-ernaehrung.at/wp-content/uploads/2024/11/Weihnachtlicher-Kochkurs-22.11.2025.jpg
ORGANIZER;CN="Petra Paumann":MAILTO:office@petrapaumann.at
END:VEVENT
END:VCALENDAR