BEGIN:VCALENDAR
VERSION:2.0
PRODID:-//Gesellschaft für Ernährung nach den 5 Elementen - ECPv6.15.20//NONSGML v1.0//EN
CALSCALE:GREGORIAN
METHOD:PUBLISH
X-ORIGINAL-URL:https://tcm-ernaehrung.at
X-WR-CALDESC:Veranstaltungen für Gesellschaft für Ernährung nach den 5 Elementen
REFRESH-INTERVAL;VALUE=DURATION:PT1H
X-Robots-Tag:noindex
X-PUBLISHED-TTL:PT1H
BEGIN:VTIMEZONE
TZID:Europe/Rome
BEGIN:DAYLIGHT
TZOFFSETFROM:+0100
TZOFFSETTO:+0200
TZNAME:CEST
DTSTART:20240331T010000
END:DAYLIGHT
BEGIN:STANDARD
TZOFFSETFROM:+0200
TZOFFSETTO:+0100
TZNAME:CET
DTSTART:20241027T010000
END:STANDARD
BEGIN:DAYLIGHT
TZOFFSETFROM:+0100
TZOFFSETTO:+0200
TZNAME:CEST
DTSTART:20250330T010000
END:DAYLIGHT
BEGIN:STANDARD
TZOFFSETFROM:+0200
TZOFFSETTO:+0100
TZNAME:CET
DTSTART:20251026T010000
END:STANDARD
BEGIN:DAYLIGHT
TZOFFSETFROM:+0100
TZOFFSETTO:+0200
TZNAME:CEST
DTSTART:20260329T010000
END:DAYLIGHT
BEGIN:STANDARD
TZOFFSETFROM:+0200
TZOFFSETTO:+0100
TZNAME:CET
DTSTART:20261025T010000
END:STANDARD
END:VTIMEZONE
BEGIN:VEVENT
DTSTART;TZID=Europe/Rome:20250926T081500
DTEND;TZID=Europe/Rome:20250926T173000
DTSTAMP:20260425T160529
CREATED:20250407T102844Z
LAST-MODIFIED:20250407T105618Z
UID:8789-1758874500-1758907800@tcm-ernaehrung.at
SUMMARY:g5e Ernährungstag am 22. TAO-Kongress 2025
DESCRIPTION:22. TAO-Kongress\, Graz\, 25. bis 27. September 2025\n  \nDer TAO Kongress 2025 steht ganz im Zeichen der Themen „Neurologie – Gastroentereologie – Hormone“. Mit unserem Ernährungstag am TAO-Kongress decken wir mit unseren tollen ReferentInnen auch heuer wieder alle Kongressthemen ab. Und das ist unser Programm: \nG5e Ernährungstag am 26.09.2025 \n\n08:15 bis 09:45 Uhr: Elke Hauenstein – Stief\, Hormonelle Dysbalancen aus Sicht des Chinese Face Reading\n11:30 bis 13:00 Uhr: Mike Mandl\, Testosteron\, Nieren-Yang und Männergesundheit\, der Testosteronspiegel sinkt seit Jahrzehnten sukzessive. Eine Mitursache: Die Ernährung.\n14:15 bis 15:45 Uhr: Uwe Siedentopp\,  Darm\, Stress\, Schlaf – Mit Chrono-Nutrition und Diätetik Störungen der Bauch-Hirn-Achse wirksam behandeln\n16:15 bis 17:45 Uhr: Alexandra Knauer\, Diätetische Maßnahmen bei unklaren Verdauungsbeschwerden\n\n  \nKarten für den g5e-Ernährungstag\nfür g5e-Mitglieder € 85\,00 inkl. Mittagessen und Kaffeepausen\nfür Nicht-Mitglieder € 110\,00 inkl. Mittagessen und Kaffeepausen \nHier geht’s zur Anmeldung!
URL:https://tcm-ernaehrung.at/termin/g5e-ernaehrungstag-am-22-tao-kongress-2025/
LOCATION:Steiermarkhof\, Ekkehard-Hauer-Straße 33\, Graz\, 8052\, Österreich
CATEGORIES:Workshops
ATTACH;FMTTYPE=image/png:https://tcm-ernaehrung.at/wp-content/uploads/2025/04/Save-the-date-TAO-.png
ORGANIZER;CN="g5e":MAILTO:office@tcm-ernaehrung.at
END:VEVENT
END:VCALENDAR